BEGIN:VCALENDAR
VERSION:2.0
PRODID:-//Ombü Gastrobar Elche - ECPv6.15.17//NONSGML v1.0//EN
CALSCALE:GREGORIAN
METHOD:PUBLISH
X-WR-CALNAME:Ombü Gastrobar Elche
X-ORIGINAL-URL:https://ombuelche.com
X-WR-CALDESC:Eventos para Ombü Gastrobar Elche
REFRESH-INTERVAL;VALUE=DURATION:PT1H
X-Robots-Tag:noindex
X-PUBLISHED-TTL:PT1H
BEGIN:VTIMEZONE
TZID:Europe/Madrid
BEGIN:DAYLIGHT
TZOFFSETFROM:+0100
TZOFFSETTO:+0200
TZNAME:CEST
DTSTART:20210328T010000
END:DAYLIGHT
BEGIN:STANDARD
TZOFFSETFROM:+0200
TZOFFSETTO:+0100
TZNAME:CET
DTSTART:20211031T010000
END:STANDARD
BEGIN:DAYLIGHT
TZOFFSETFROM:+0100
TZOFFSETTO:+0200
TZNAME:CEST
DTSTART:20220327T010000
END:DAYLIGHT
BEGIN:STANDARD
TZOFFSETFROM:+0200
TZOFFSETTO:+0100
TZNAME:CET
DTSTART:20221030T010000
END:STANDARD
BEGIN:DAYLIGHT
TZOFFSETFROM:+0100
TZOFFSETTO:+0200
TZNAME:CEST
DTSTART:20230326T010000
END:DAYLIGHT
BEGIN:STANDARD
TZOFFSETFROM:+0200
TZOFFSETTO:+0100
TZNAME:CET
DTSTART:20231029T010000
END:STANDARD
END:VTIMEZONE
BEGIN:VEVENT
DTSTART;TZID=Europe/Madrid:20220212T210000
DTEND;TZID=Europe/Madrid:20220213T050000
DTSTAMP:20260425T030615
CREATED:20220209T051126Z
LAST-MODIFIED:20220209T051127Z
UID:335-1644699600-1644728400@ombuelche.com
SUMMARY:Especial Noche de Enamorados
DESCRIPTION:Un San Valentín perfecto en Ombü. Disfrutaremos de nuestra tradicional cena de Enamorados y seguiremos la noche en nuestra zona disco\, con los mejores temas de los 80’s – 90’s -2000’s. \n\n\n\nEste sábado ven a celebrar el amor con nosotros. ¡No te quedes sin mesa!  Reserva ahora  605 379 032 y disfruta de una noche inolvidable con tu pareja o en grupo junto a tus amig@s.
URL:https://ombuelche.com/evento/especial-noche-de-enamorados/
LOCATION:Ombü Gastrobar\, C/ Villena nº5 (Pol. Altabix)\, Elche\, Alicante\, 03203\, España
ATTACH;FMTTYPE=image/jpeg:https://ombuelche.com/wp-content/uploads/2022/02/modi-san-valentin.jpg
ORGANIZER;CN="Omb%C3%BC Elche":MAILTO:info@ombuelche.com
END:VEVENT
END:VCALENDAR